BEGIN:VCALENDAR
VERSION:2.0
PRODID:-//Generations Church of Peyton - ECPv6.15.20//NONSGML v1.0//EN
CALSCALE:GREGORIAN
METHOD:PUBLISH
X-ORIGINAL-URL:https://genchurchpeyton.org
X-WR-CALDESC:Events for Generations Church of Peyton
REFRESH-INTERVAL;VALUE=DURATION:PT1H
X-Robots-Tag:noindex
X-PUBLISHED-TTL:PT1H
BEGIN:VTIMEZONE
TZID:America/Denver
BEGIN:DAYLIGHT
TZOFFSETFROM:-0700
TZOFFSETTO:-0600
TZNAME:MDT
DTSTART:20240310T090000
END:DAYLIGHT
BEGIN:STANDARD
TZOFFSETFROM:-0600
TZOFFSETTO:-0700
TZNAME:MST
DTSTART:20241103T080000
END:STANDARD
BEGIN:DAYLIGHT
TZOFFSETFROM:-0700
TZOFFSETTO:-0600
TZNAME:MDT
DTSTART:20250309T090000
END:DAYLIGHT
BEGIN:STANDARD
TZOFFSETFROM:-0600
TZOFFSETTO:-0700
TZNAME:MST
DTSTART:20251102T080000
END:STANDARD
BEGIN:DAYLIGHT
TZOFFSETFROM:-0700
TZOFFSETTO:-0600
TZNAME:MDT
DTSTART:20260308T090000
END:DAYLIGHT
BEGIN:STANDARD
TZOFFSETFROM:-0600
TZOFFSETTO:-0700
TZNAME:MST
DTSTART:20261101T080000
END:STANDARD
END:VTIMEZONE
BEGIN:VEVENT
DTSTART;TZID=America/Denver:20251105T183000
DTEND;TZID=America/Denver:20251105T200000
DTSTAMP:20260420T081030
CREATED:20250407T203922Z
LAST-MODIFIED:20250407T203922Z
UID:488-1762367400-1762372800@genchurchpeyton.org
SUMMARY:Men's Fraternity
DESCRIPTION:This ministry welcomes all men aiming to help them connect with God through His Word and build Christ-honoring relationships with other men. The goal is for participants to collectively become the men God has called them to be in all areas of life and faith. For more details\, you can contact Pastor John or Deacon Paul.
URL:https://genchurchpeyton.org/event/mens-fraternity-31/
LOCATION:Generations Church of Peyton\, 15504 Bradshaw Rd\, Peyton\, CO\, 80831\, United States
CATEGORIES:Men's Ministry,Mens's Fraternity
ATTACH;FMTTYPE=image/jpeg:https://genchurchpeyton.org/wp-content/uploads/2025/04/Mens-Fraternity-Graphic.jpg
END:VEVENT
BEGIN:VEVENT
DTSTART;TZID=America/Denver:20251112T183000
DTEND;TZID=America/Denver:20251112T200000
DTSTAMP:20260420T081030
CREATED:20250407T203932Z
LAST-MODIFIED:20250407T203932Z
UID:489-1762972200-1762977600@genchurchpeyton.org
SUMMARY:Men's Fraternity
DESCRIPTION:This ministry welcomes all men aiming to help them connect with God through His Word and build Christ-honoring relationships with other men. The goal is for participants to collectively become the men God has called them to be in all areas of life and faith. For more details\, you can contact Pastor John or Deacon Paul.
URL:https://genchurchpeyton.org/event/mens-fraternity-32/
LOCATION:Generations Church of Peyton\, 15504 Bradshaw Rd\, Peyton\, CO\, 80831\, United States
CATEGORIES:Men's Ministry,Mens's Fraternity
ATTACH;FMTTYPE=image/jpeg:https://genchurchpeyton.org/wp-content/uploads/2025/04/Mens-Fraternity-Graphic.jpg
END:VEVENT
BEGIN:VEVENT
DTSTART;TZID=America/Denver:20251115T080000
DTEND;TZID=America/Denver:20251115T100000
DTSTAMP:20260420T081030
CREATED:20250407T194828Z
LAST-MODIFIED:20250407T203749Z
UID:439-1763193600-1763200800@genchurchpeyton.org
SUMMARY:Men's Prayer Breakfast
DESCRIPTION:Join the men of Generations Church for our monthly Men’s Prayer Breakfast—a meaningful time of fellowship\, encouragement\, and spiritual growth. We gather on the third Wednesday of each month to share a hot breakfast\, connect as brothers in Christ\, and pray together for our families\, community\, and world. \nWhether you’re a long-time member or visiting for the first time\, you’ll find a welcoming space to grow in faith and friendship. Come hungry and ready to be filled\, both physically and spiritually. \nBring a friend\, a hearty appetite\, and an open heart. We look forward to seeing you there!
URL:https://genchurchpeyton.org/event/mens-prayer-breakfast-17/
LOCATION:Generations Church of Peyton\, 15504 Bradshaw Rd\, Peyton\, CO\, 80831\, United States
CATEGORIES:Men's Ministry,Mens's Prayer Breakfast
ATTACH;FMTTYPE=image/png:https://genchurchpeyton.org/wp-content/uploads/2025/04/Mens-Breakfast.png
END:VEVENT
BEGIN:VEVENT
DTSTART;TZID=America/Denver:20251119T183000
DTEND;TZID=America/Denver:20251119T200000
DTSTAMP:20260420T081030
CREATED:20250407T203933Z
LAST-MODIFIED:20250407T203933Z
UID:490-1763577000-1763582400@genchurchpeyton.org
SUMMARY:Men's Fraternity
DESCRIPTION:This ministry welcomes all men aiming to help them connect with God through His Word and build Christ-honoring relationships with other men. The goal is for participants to collectively become the men God has called them to be in all areas of life and faith. For more details\, you can contact Pastor John or Deacon Paul.
URL:https://genchurchpeyton.org/event/mens-fraternity-33/
LOCATION:Generations Church of Peyton\, 15504 Bradshaw Rd\, Peyton\, CO\, 80831\, United States
CATEGORIES:Men's Ministry,Mens's Fraternity
ATTACH;FMTTYPE=image/jpeg:https://genchurchpeyton.org/wp-content/uploads/2025/04/Mens-Fraternity-Graphic.jpg
END:VEVENT
BEGIN:VEVENT
DTSTART;TZID=America/Denver:20251126T183000
DTEND;TZID=America/Denver:20251126T200000
DTSTAMP:20260420T081030
CREATED:20250407T203934Z
LAST-MODIFIED:20250407T203934Z
UID:491-1764181800-1764187200@genchurchpeyton.org
SUMMARY:Men's Fraternity
DESCRIPTION:This ministry welcomes all men aiming to help them connect with God through His Word and build Christ-honoring relationships with other men. The goal is for participants to collectively become the men God has called them to be in all areas of life and faith. For more details\, you can contact Pastor John or Deacon Paul.
URL:https://genchurchpeyton.org/event/mens-fraternity-34/
LOCATION:Generations Church of Peyton\, 15504 Bradshaw Rd\, Peyton\, CO\, 80831\, United States
CATEGORIES:Men's Ministry,Mens's Fraternity
ATTACH;FMTTYPE=image/jpeg:https://genchurchpeyton.org/wp-content/uploads/2025/04/Mens-Fraternity-Graphic.jpg
END:VEVENT
END:VCALENDAR