BEGIN:VCALENDAR
VERSION:2.0
PRODID:-//Generations Church of Peyton - ECPv6.15.20//NONSGML v1.0//EN
CALSCALE:GREGORIAN
METHOD:PUBLISH
X-WR-CALNAME:Generations Church of Peyton
X-ORIGINAL-URL:https://genchurchpeyton.org
X-WR-CALDESC:Events for Generations Church of Peyton
REFRESH-INTERVAL;VALUE=DURATION:PT1H
X-Robots-Tag:noindex
X-PUBLISHED-TTL:PT1H
BEGIN:VTIMEZONE
TZID:America/Denver
BEGIN:DAYLIGHT
TZOFFSETFROM:-0700
TZOFFSETTO:-0600
TZNAME:MDT
DTSTART:20240310T090000
END:DAYLIGHT
BEGIN:STANDARD
TZOFFSETFROM:-0600
TZOFFSETTO:-0700
TZNAME:MST
DTSTART:20241103T080000
END:STANDARD
BEGIN:DAYLIGHT
TZOFFSETFROM:-0700
TZOFFSETTO:-0600
TZNAME:MDT
DTSTART:20250309T090000
END:DAYLIGHT
BEGIN:STANDARD
TZOFFSETFROM:-0600
TZOFFSETTO:-0700
TZNAME:MST
DTSTART:20251102T080000
END:STANDARD
BEGIN:DAYLIGHT
TZOFFSETFROM:-0700
TZOFFSETTO:-0600
TZNAME:MDT
DTSTART:20260308T090000
END:DAYLIGHT
BEGIN:STANDARD
TZOFFSETFROM:-0600
TZOFFSETTO:-0700
TZNAME:MST
DTSTART:20261101T080000
END:STANDARD
END:VTIMEZONE
BEGIN:VEVENT
DTSTART;TZID=America/Denver:20250413T101500
DTEND;TZID=America/Denver:20250413T113000
DTSTAMP:20260420T150502
CREATED:20250408T065705Z
LAST-MODIFIED:20250408T065705Z
UID:772-1744539300-1744543800@genchurchpeyton.org
SUMMARY:Sunday Worship
DESCRIPTION:Sunday morning at Generations Church is a sacred time when we come together—young and old—to worship the Lord\, hear from His Word\, and encourage one another in the faith. \nFrom the moment you walk through the doors\, you’ll be welcomed like family. We gather not for performance or spectacle\, but to lift up the name of Jesus Christ in song\, in prayer\, and in the preaching of the Word. The music is Christ-centered\, the people are genuine\, and the Spirit of God is moving in our midst. \nEach week\, we open the Bible and ask\, “Lord\, what do You want to teach us today?” The messages are rooted in Scripture\, practical for daily life\, and always pointing us back to the cross. Whether we’re in the Psalms\, the Gospels\, or the book of James\, we believe the Word of God is alive and powerful—and it has something to say to each of us. \nCommunion is observed regularly as a reminder of Christ’s sacrifice\, and we always make space for prayer\, reflection\, and response. We believe in the power of the Holy Spirit to change lives and that church should feel like coming home. \nSo come as you are—whether you’re new to church\, returning after some time away\, or have been walking with the Lord for years. We’d love for you to worship with us this Sunday\, and experience what it means to be part of a church family that’s following Jesus together.
URL:https://genchurchpeyton.org/event/sunday-worship/
LOCATION:Generations Church of Peyton\, 15504 Bradshaw Rd\, Peyton\, CO\, 80831\, United States
CATEGORIES:Sunday Worship
ATTACH;FMTTYPE=image/png:https://genchurchpeyton.org/wp-content/uploads/2025/04/Sundays.png
END:VEVENT
BEGIN:VEVENT
DTSTART;TZID=America/Denver:20250420T101500
DTEND;TZID=America/Denver:20250420T113000
DTSTAMP:20260420T150502
CREATED:20250408T065706Z
LAST-MODIFIED:20250408T065706Z
UID:773-1745144100-1745148600@genchurchpeyton.org
SUMMARY:Sunday Worship
DESCRIPTION:Sunday morning at Generations Church is a sacred time when we come together—young and old—to worship the Lord\, hear from His Word\, and encourage one another in the faith. \nFrom the moment you walk through the doors\, you’ll be welcomed like family. We gather not for performance or spectacle\, but to lift up the name of Jesus Christ in song\, in prayer\, and in the preaching of the Word. The music is Christ-centered\, the people are genuine\, and the Spirit of God is moving in our midst. \nEach week\, we open the Bible and ask\, “Lord\, what do You want to teach us today?” The messages are rooted in Scripture\, practical for daily life\, and always pointing us back to the cross. Whether we’re in the Psalms\, the Gospels\, or the book of James\, we believe the Word of God is alive and powerful—and it has something to say to each of us. \nCommunion is observed regularly as a reminder of Christ’s sacrifice\, and we always make space for prayer\, reflection\, and response. We believe in the power of the Holy Spirit to change lives and that church should feel like coming home. \nSo come as you are—whether you’re new to church\, returning after some time away\, or have been walking with the Lord for years. We’d love for you to worship with us this Sunday\, and experience what it means to be part of a church family that’s following Jesus together.
URL:https://genchurchpeyton.org/event/sunday-worship-2/
LOCATION:Generations Church of Peyton\, 15504 Bradshaw Rd\, Peyton\, CO\, 80831\, United States
CATEGORIES:Sunday Worship
ATTACH;FMTTYPE=image/png:https://genchurchpeyton.org/wp-content/uploads/2025/04/Sundays.png
END:VEVENT
BEGIN:VEVENT
DTSTART;TZID=America/Denver:20250420T101500
DTEND;TZID=America/Denver:20250420T113000
DTSTAMP:20260420T150502
CREATED:20250419T020004Z
LAST-MODIFIED:20250419T020113Z
UID:870-1745144100-1745148600@genchurchpeyton.org
SUMMARY:Easter 2025
DESCRIPTION:Easter. New Life. New Hope\nGenerations Church would love for you and your family to join us as we experience Easter and celebrate the new life we have in Jesus! \nEaster Sunday Service: April 20th 10:15 a.m. \nCoffee & Refreshments served at 10:00 a.m. \nChildren’s Church: Grades K-4th will enjoy the resurrection story followed by an outside Easter egg hunt.
URL:https://genchurchpeyton.org/event/easter-2025/
LOCATION:Generations Church of Peyton\, 15504 Bradshaw Rd\, Peyton\, CO\, 80831\, United States
CATEGORIES:Sunday Worship
ATTACH;FMTTYPE=image/jpeg:https://genchurchpeyton.org/wp-content/uploads/2025/04/easter-generations-church-peyton-co.jpg
END:VEVENT
BEGIN:VEVENT
DTSTART;TZID=America/Denver:20250427T101500
DTEND;TZID=America/Denver:20250427T113000
DTSTAMP:20260420T150502
CREATED:20250408T065707Z
LAST-MODIFIED:20250408T065707Z
UID:774-1745748900-1745753400@genchurchpeyton.org
SUMMARY:Sunday Worship
DESCRIPTION:Sunday morning at Generations Church is a sacred time when we come together—young and old—to worship the Lord\, hear from His Word\, and encourage one another in the faith. \nFrom the moment you walk through the doors\, you’ll be welcomed like family. We gather not for performance or spectacle\, but to lift up the name of Jesus Christ in song\, in prayer\, and in the preaching of the Word. The music is Christ-centered\, the people are genuine\, and the Spirit of God is moving in our midst. \nEach week\, we open the Bible and ask\, “Lord\, what do You want to teach us today?” The messages are rooted in Scripture\, practical for daily life\, and always pointing us back to the cross. Whether we’re in the Psalms\, the Gospels\, or the book of James\, we believe the Word of God is alive and powerful—and it has something to say to each of us. \nCommunion is observed regularly as a reminder of Christ’s sacrifice\, and we always make space for prayer\, reflection\, and response. We believe in the power of the Holy Spirit to change lives and that church should feel like coming home. \nSo come as you are—whether you’re new to church\, returning after some time away\, or have been walking with the Lord for years. We’d love for you to worship with us this Sunday\, and experience what it means to be part of a church family that’s following Jesus together.
URL:https://genchurchpeyton.org/event/sunday-worship-3/
LOCATION:Generations Church of Peyton\, 15504 Bradshaw Rd\, Peyton\, CO\, 80831\, United States
CATEGORIES:Sunday Worship
ATTACH;FMTTYPE=image/png:https://genchurchpeyton.org/wp-content/uploads/2025/04/Sundays.png
END:VEVENT
END:VCALENDAR