BEGIN:VCALENDAR
VERSION:2.0
PRODID:-//Generations Church of Peyton - ECPv6.15.20//NONSGML v1.0//EN
CALSCALE:GREGORIAN
METHOD:PUBLISH
X-ORIGINAL-URL:https://genchurchpeyton.org
X-WR-CALDESC:Events for Generations Church of Peyton
REFRESH-INTERVAL;VALUE=DURATION:PT1H
X-Robots-Tag:noindex
X-PUBLISHED-TTL:PT1H
BEGIN:VTIMEZONE
TZID:America/Denver
BEGIN:DAYLIGHT
TZOFFSETFROM:-0700
TZOFFSETTO:-0600
TZNAME:MDT
DTSTART:20250309T090000
END:DAYLIGHT
BEGIN:STANDARD
TZOFFSETFROM:-0600
TZOFFSETTO:-0700
TZNAME:MST
DTSTART:20251102T080000
END:STANDARD
BEGIN:DAYLIGHT
TZOFFSETFROM:-0700
TZOFFSETTO:-0600
TZNAME:MDT
DTSTART:20260308T090000
END:DAYLIGHT
BEGIN:STANDARD
TZOFFSETFROM:-0600
TZOFFSETTO:-0700
TZNAME:MST
DTSTART:20261101T080000
END:STANDARD
BEGIN:DAYLIGHT
TZOFFSETFROM:-0700
TZOFFSETTO:-0600
TZNAME:MDT
DTSTART:20270314T090000
END:DAYLIGHT
BEGIN:STANDARD
TZOFFSETFROM:-0600
TZOFFSETTO:-0700
TZNAME:MST
DTSTART:20271107T080000
END:STANDARD
END:VTIMEZONE
BEGIN:VEVENT
DTSTART;TZID=America/Denver:20260104T183000
DTEND;TZID=America/Denver:20260104T200000
DTSTAMP:20260420T051104
CREATED:20251222T210244Z
LAST-MODIFIED:20251222T210244Z
UID:1192-1767551400-1767556800@genchurchpeyton.org
SUMMARY:No Women's Ministry - Resumes Jan 11
DESCRIPTION:
URL:https://genchurchpeyton.org/event/no-womens-ministry-resumes-jan-11/
CATEGORIES:Womens Ministry
END:VEVENT
BEGIN:VEVENT
DTSTART;TZID=America/Denver:20260111T183000
DTEND;TZID=America/Denver:20260111T200000
DTSTAMP:20260420T051104
CREATED:20251222T205825Z
LAST-MODIFIED:20251222T205825Z
UID:1186-1768156200-1768161600@genchurchpeyton.org
SUMMARY:Women's Ministry
DESCRIPTION:
URL:https://genchurchpeyton.org/event/womens-ministry-16/
CATEGORIES:Womens Ministry
END:VEVENT
BEGIN:VEVENT
DTSTART;TZID=America/Denver:20260118T183000
DTEND;TZID=America/Denver:20260118T200000
DTSTAMP:20260420T051104
CREATED:20251222T205907Z
LAST-MODIFIED:20251222T205907Z
UID:1188-1768761000-1768766400@genchurchpeyton.org
SUMMARY:Women's Ministry
DESCRIPTION:
URL:https://genchurchpeyton.org/event/womens-ministry-17/
CATEGORIES:Womens Ministry
END:VEVENT
BEGIN:VEVENT
DTSTART;TZID=America/Denver:20260125T183000
DTEND;TZID=America/Denver:20260125T200000
DTSTAMP:20260420T051104
CREATED:20251222T205955Z
LAST-MODIFIED:20251222T210137Z
UID:1190-1769365800-1769371200@genchurchpeyton.org
SUMMARY:Women's Ministry
DESCRIPTION:
URL:https://genchurchpeyton.org/event/womens-ministry-18/
CATEGORIES:Womens Ministry
END:VEVENT
END:VCALENDAR