BEGIN:VCALENDAR
VERSION:2.0
PRODID:-//Generations Church of Peyton - ECPv6.15.20//NONSGML v1.0//EN
CALSCALE:GREGORIAN
METHOD:PUBLISH
X-ORIGINAL-URL:https://genchurchpeyton.org
X-WR-CALDESC:Events for Generations Church of Peyton
REFRESH-INTERVAL;VALUE=DURATION:PT1H
X-Robots-Tag:noindex
X-PUBLISHED-TTL:PT1H
BEGIN:VTIMEZONE
TZID:America/Denver
BEGIN:DAYLIGHT
TZOFFSETFROM:-0700
TZOFFSETTO:-0600
TZNAME:MDT
DTSTART:20240310T090000
END:DAYLIGHT
BEGIN:STANDARD
TZOFFSETFROM:-0600
TZOFFSETTO:-0700
TZNAME:MST
DTSTART:20241103T080000
END:STANDARD
BEGIN:DAYLIGHT
TZOFFSETFROM:-0700
TZOFFSETTO:-0600
TZNAME:MDT
DTSTART:20250309T090000
END:DAYLIGHT
BEGIN:STANDARD
TZOFFSETFROM:-0600
TZOFFSETTO:-0700
TZNAME:MST
DTSTART:20251102T080000
END:STANDARD
BEGIN:DAYLIGHT
TZOFFSETFROM:-0700
TZOFFSETTO:-0600
TZNAME:MDT
DTSTART:20260308T090000
END:DAYLIGHT
BEGIN:STANDARD
TZOFFSETFROM:-0600
TZOFFSETTO:-0700
TZNAME:MST
DTSTART:20261101T080000
END:STANDARD
BEGIN:DAYLIGHT
TZOFFSETFROM:-0700
TZOFFSETTO:-0600
TZNAME:MDT
DTSTART:20270314T090000
END:DAYLIGHT
BEGIN:STANDARD
TZOFFSETFROM:-0600
TZOFFSETTO:-0700
TZNAME:MST
DTSTART:20271107T080000
END:STANDARD
END:VTIMEZONE
BEGIN:VEVENT
DTSTART;TZID=America/Denver:20260419T183000
DTEND;TZID=America/Denver:20260419T200000
DTSTAMP:20260420T052828
CREATED:20260403T193416Z
LAST-MODIFIED:20260412T003401Z
UID:1353-1776623400-1776628800@genchurchpeyton.org
SUMMARY:Youth will meet - No Womens' Bible Study
DESCRIPTION:
URL:https://genchurchpeyton.org/event/youth-womens-bible-study-3/
CATEGORIES:Womens Ministry,Youth Ministry
END:VEVENT
BEGIN:VEVENT
DTSTART;TZID=America/Denver:20260417T150000
DTEND;TZID=America/Denver:20260418T160000
DTSTAMP:20260420T052828
CREATED:20260202T185942Z
LAST-MODIFIED:20260202T185942Z
UID:1247-1776438000-1776528000@genchurchpeyton.org
SUMMARY:Ladies Retreat - Where Are You God? - Divide\, CO
DESCRIPTION:
URL:https://genchurchpeyton.org/event/ladies-retreat-where-are-you-god-divide-co/
CATEGORIES:Womens Ministry
END:VEVENT
BEGIN:VEVENT
DTSTART;TZID=America/Denver:20260412T183000
DTEND;TZID=America/Denver:20260412T200000
DTSTAMP:20260420T052828
CREATED:20260403T193229Z
LAST-MODIFIED:20260403T193229Z
UID:1349-1776018600-1776024000@genchurchpeyton.org
SUMMARY:Youth & Womens' Bible Study
DESCRIPTION:
URL:https://genchurchpeyton.org/event/youth-womens-bible-study/
CATEGORIES:Womens Ministry,Youth Ministry
END:VEVENT
BEGIN:VEVENT
DTSTART;TZID=America/Denver:20260329T183000
DTEND;TZID=America/Denver:20260329T200000
DTSTAMP:20260420T052828
CREATED:20260304T173717Z
LAST-MODIFIED:20260304T173717Z
UID:1283-1774809000-1774814400@genchurchpeyton.org
SUMMARY:Youth Group & Ladies' Ministry Meeting
DESCRIPTION:
URL:https://genchurchpeyton.org/event/youth-group-ladies-ministry-meeting-4/
CATEGORIES:Womens Ministry,Youth Ministry
END:VEVENT
BEGIN:VEVENT
DTSTART;TZID=America/Denver:20260322T183000
DTEND;TZID=America/Denver:20260322T200000
DTSTAMP:20260420T052828
CREATED:20260304T173613Z
LAST-MODIFIED:20260304T173613Z
UID:1281-1774204200-1774209600@genchurchpeyton.org
SUMMARY:Youth Group & Ladies' Ministry Meeting
DESCRIPTION:
URL:https://genchurchpeyton.org/event/youth-group-ladies-ministry-meeting-3/
CATEGORIES:Womens Ministry,Youth Ministry
END:VEVENT
BEGIN:VEVENT
DTSTART;TZID=America/Denver:20260321T100000
DTEND;TZID=America/Denver:20260321T120000
DTSTAMP:20260420T052828
CREATED:20260309T225426Z
LAST-MODIFIED:20260309T225426Z
UID:1297-1774087200-1774094400@genchurchpeyton.org
SUMMARY:Ladies Crafting Fellowship
DESCRIPTION:
URL:https://genchurchpeyton.org/event/ladies-crafting-fellowship/
CATEGORIES:Womens Ministry
END:VEVENT
BEGIN:VEVENT
DTSTART;TZID=America/Denver:20260315T183000
DTEND;TZID=America/Denver:20260315T200000
DTSTAMP:20260420T052828
CREATED:20260304T173521Z
LAST-MODIFIED:20260304T173521Z
UID:1279-1773599400-1773604800@genchurchpeyton.org
SUMMARY:Youth Group & Ladies' Ministry Meeting
DESCRIPTION:
URL:https://genchurchpeyton.org/event/youth-group-ladies-ministry-meeting-2/
CATEGORIES:Womens Ministry,Youth Ministry
END:VEVENT
BEGIN:VEVENT
DTSTART;TZID=America/Denver:20260308T183000
DTEND;TZID=America/Denver:20260308T200000
DTSTAMP:20260420T052828
CREATED:20260304T173428Z
LAST-MODIFIED:20260304T173428Z
UID:1277-1772994600-1773000000@genchurchpeyton.org
SUMMARY:Youth Group & Ladies' Ministry Meeting
DESCRIPTION:
URL:https://genchurchpeyton.org/event/youth-group-ladies-ministry-meeting/
CATEGORIES:Womens Ministry,Youth Ministry
END:VEVENT
BEGIN:VEVENT
DTSTART;TZID=America/Denver:20260222T183000
DTEND;TZID=America/Denver:20260222T200000
DTSTAMP:20260420T052828
CREATED:20260202T185729Z
LAST-MODIFIED:20260202T185729Z
UID:1245-1771785000-1771790400@genchurchpeyton.org
SUMMARY:Youth Group/Women's Ministry
DESCRIPTION:
URL:https://genchurchpeyton.org/event/youth-group-womens-ministry-2/
CATEGORIES:Womens Ministry,Youth Ministry
END:VEVENT
BEGIN:VEVENT
DTSTART;TZID=America/Denver:20260221T100000
DTEND;TZID=America/Denver:20260221T120000
DTSTAMP:20260420T052828
CREATED:20260202T185148Z
LAST-MODIFIED:20260202T185148Z
UID:1236-1771668000-1771675200@genchurchpeyton.org
SUMMARY:Women's Crafting Fellowship
DESCRIPTION:
URL:https://genchurchpeyton.org/event/womens-crafting-fellowship/
CATEGORIES:Womens Ministry
END:VEVENT
BEGIN:VEVENT
DTSTART;TZID=America/Denver:20260215T183000
DTEND;TZID=America/Denver:20260215T200000
DTSTAMP:20260420T052828
CREATED:20260202T185552Z
LAST-MODIFIED:20260202T185552Z
UID:1243-1771180200-1771185600@genchurchpeyton.org
SUMMARY:Youth Group/Women's Ministry
DESCRIPTION:
URL:https://genchurchpeyton.org/event/youth-group-womens-ministry/
CATEGORIES:Womens Ministry,Youth Ministry
END:VEVENT
BEGIN:VEVENT
DTSTART;TZID=America/Denver:20260208T183000
DTEND;TZID=America/Denver:20260208T200000
DTSTAMP:20260420T052828
CREATED:20260202T185457Z
LAST-MODIFIED:20260203T165133Z
UID:1240-1770575400-1770580800@genchurchpeyton.org
SUMMARY:Youth Group (cancelled)/Women's Ministry (Will Meet at normal time)
DESCRIPTION:
URL:https://genchurchpeyton.org/event/youth-group-womens-ministry-cancelled/
CATEGORIES:Womens Ministry,Youth Ministry
END:VEVENT
BEGIN:VEVENT
DTSTART;TZID=America/Denver:20260125T183000
DTEND;TZID=America/Denver:20260125T200000
DTSTAMP:20260420T052828
CREATED:20251222T205955Z
LAST-MODIFIED:20251222T210137Z
UID:1190-1769365800-1769371200@genchurchpeyton.org
SUMMARY:Women's Ministry
DESCRIPTION:
URL:https://genchurchpeyton.org/event/womens-ministry-18/
CATEGORIES:Womens Ministry
END:VEVENT
BEGIN:VEVENT
DTSTART;TZID=America/Denver:20260118T183000
DTEND;TZID=America/Denver:20260118T200000
DTSTAMP:20260420T052828
CREATED:20251222T205907Z
LAST-MODIFIED:20251222T205907Z
UID:1188-1768761000-1768766400@genchurchpeyton.org
SUMMARY:Women's Ministry
DESCRIPTION:
URL:https://genchurchpeyton.org/event/womens-ministry-17/
CATEGORIES:Womens Ministry
END:VEVENT
BEGIN:VEVENT
DTSTART;TZID=America/Denver:20260111T183000
DTEND;TZID=America/Denver:20260111T200000
DTSTAMP:20260420T052828
CREATED:20251222T205825Z
LAST-MODIFIED:20251222T205825Z
UID:1186-1768156200-1768161600@genchurchpeyton.org
SUMMARY:Women's Ministry
DESCRIPTION:
URL:https://genchurchpeyton.org/event/womens-ministry-16/
CATEGORIES:Womens Ministry
END:VEVENT
BEGIN:VEVENT
DTSTART;TZID=America/Denver:20260104T183000
DTEND;TZID=America/Denver:20260104T200000
DTSTAMP:20260420T052828
CREATED:20251222T210244Z
LAST-MODIFIED:20251222T210244Z
UID:1192-1767551400-1767556800@genchurchpeyton.org
SUMMARY:No Women's Ministry - Resumes Jan 11
DESCRIPTION:
URL:https://genchurchpeyton.org/event/no-womens-ministry-resumes-jan-11/
CATEGORIES:Womens Ministry
END:VEVENT
BEGIN:VEVENT
DTSTART;TZID=America/Denver:20250928T183000
DTEND;TZID=America/Denver:20250928T200000
DTSTAMP:20260420T052828
CREATED:20250912T204432Z
LAST-MODIFIED:20250912T204432Z
UID:1017-1759084200-1759089600@genchurchpeyton.org
SUMMARY:Womens Ministry
DESCRIPTION:
URL:https://genchurchpeyton.org/event/womens-ministry-2/
CATEGORIES:Womens Ministry
END:VEVENT
BEGIN:VEVENT
DTSTART;TZID=America/Denver:20250921T183000
DTEND;TZID=America/Denver:20250921T200000
DTSTAMP:20260420T052828
CREATED:20250912T204332Z
LAST-MODIFIED:20250912T204332Z
UID:1015-1758479400-1758484800@genchurchpeyton.org
SUMMARY:Womens Ministry
DESCRIPTION:
URL:https://genchurchpeyton.org/event/womens-ministry/
CATEGORIES:Womens Ministry
END:VEVENT
END:VCALENDAR