BEGIN:VCALENDAR
VERSION:2.0
PRODID:-//Generations Church of Peyton - ECPv6.15.20//NONSGML v1.0//EN
CALSCALE:GREGORIAN
METHOD:PUBLISH
X-WR-CALNAME:Generations Church of Peyton
X-ORIGINAL-URL:https://genchurchpeyton.org
X-WR-CALDESC:Events for Generations Church of Peyton
REFRESH-INTERVAL;VALUE=DURATION:PT1H
X-Robots-Tag:noindex
X-PUBLISHED-TTL:PT1H
BEGIN:VTIMEZONE
TZID:America/Denver
BEGIN:DAYLIGHT
TZOFFSETFROM:-0700
TZOFFSETTO:-0600
TZNAME:MDT
DTSTART:20250309T090000
END:DAYLIGHT
BEGIN:STANDARD
TZOFFSETFROM:-0600
TZOFFSETTO:-0700
TZNAME:MST
DTSTART:20251102T080000
END:STANDARD
BEGIN:DAYLIGHT
TZOFFSETFROM:-0700
TZOFFSETTO:-0600
TZNAME:MDT
DTSTART:20260308T090000
END:DAYLIGHT
BEGIN:STANDARD
TZOFFSETFROM:-0600
TZOFFSETTO:-0700
TZNAME:MST
DTSTART:20261101T080000
END:STANDARD
BEGIN:DAYLIGHT
TZOFFSETFROM:-0700
TZOFFSETTO:-0600
TZNAME:MDT
DTSTART:20270314T090000
END:DAYLIGHT
BEGIN:STANDARD
TZOFFSETFROM:-0600
TZOFFSETTO:-0700
TZNAME:MST
DTSTART:20271107T080000
END:STANDARD
END:VTIMEZONE
BEGIN:VEVENT
DTSTART;TZID=America/Denver:20260405T090000
DTEND;TZID=America/Denver:20260405T100000
DTSTAMP:20260419T145432
CREATED:20260403T190844Z
LAST-MODIFIED:20260403T190844Z
UID:1307-1775379600-1775383200@genchurchpeyton.org
SUMMARY:Adult Bible Study
DESCRIPTION:
URL:https://genchurchpeyton.org/event/adult-bible-study/
CATEGORIES:Church Events
END:VEVENT
BEGIN:VEVENT
DTSTART;TZID=America/Denver:20260405T090000
DTEND;TZID=America/Denver:20260405T100000
DTSTAMP:20260419T145432
CREATED:20260403T190957Z
LAST-MODIFIED:20260403T190957Z
UID:1309-1775379600-1775383200@genchurchpeyton.org
SUMMARY:Children's Sunday School
DESCRIPTION:
URL:https://genchurchpeyton.org/event/childrens-sunday-school/
END:VEVENT
BEGIN:VEVENT
DTSTART;TZID=America/Denver:20260405T101500
DTEND;TZID=America/Denver:20260405T111500
DTSTAMP:20260419T145432
CREATED:20260403T190543Z
LAST-MODIFIED:20260403T190543Z
UID:1302-1775384100-1775387700@genchurchpeyton.org
SUMMARY:Easter Worship Service
DESCRIPTION:
URL:https://genchurchpeyton.org/event/easter-worship-service/
CATEGORIES:Church Events
END:VEVENT
BEGIN:VEVENT
DTSTART;TZID=America/Denver:20260405T101500
DTEND;TZID=America/Denver:20260405T111500
DTSTAMP:20260419T145432
CREATED:20260403T191052Z
LAST-MODIFIED:20260403T191052Z
UID:1311-1775384100-1775387700@genchurchpeyton.org
SUMMARY:Junior Church
DESCRIPTION:
URL:https://genchurchpeyton.org/event/junior-church/
CATEGORIES:Youth Ministry
END:VEVENT
BEGIN:VEVENT
DTSTART;TZID=America/Denver:20260405T183000
DTEND;TZID=America/Denver:20260405T200000
DTSTAMP:20260419T145432
CREATED:20260403T190723Z
LAST-MODIFIED:20260403T190723Z
UID:1304-1775413800-1775419200@genchurchpeyton.org
SUMMARY:No Youth or Ladies' Bible Study
DESCRIPTION:
URL:https://genchurchpeyton.org/event/no-youth-or-ladies-bible-study/
END:VEVENT
BEGIN:VEVENT
DTSTART;TZID=America/Denver:20260408T183000
DTEND;TZID=America/Denver:20260408T200000
DTSTAMP:20260419T145432
CREATED:20260403T192211Z
LAST-MODIFIED:20260403T192211Z
UID:1329-1775673000-1775678400@genchurchpeyton.org
SUMMARY:Men's Fraternity
DESCRIPTION:
URL:https://genchurchpeyton.org/event/mens-fraternity-46/
CATEGORIES:Mens's Fraternity
END:VEVENT
BEGIN:VEVENT
DTSTART;TZID=America/Denver:20260412T090000
DTEND;TZID=America/Denver:20260412T100000
DTSTAMP:20260419T145432
CREATED:20260403T191618Z
LAST-MODIFIED:20260403T191618Z
UID:1317-1775984400-1775988000@genchurchpeyton.org
SUMMARY:Adult Bible Study
DESCRIPTION:
URL:https://genchurchpeyton.org/event/adult-bible-study-2/
CATEGORIES:Church Events
END:VEVENT
BEGIN:VEVENT
DTSTART;TZID=America/Denver:20260412T090000
DTEND;TZID=America/Denver:20260412T100000
DTSTAMP:20260419T145432
CREATED:20260403T192525Z
LAST-MODIFIED:20260403T192525Z
UID:1337-1775984400-1775988000@genchurchpeyton.org
SUMMARY:Childrens' Sunday School
DESCRIPTION:
URL:https://genchurchpeyton.org/event/childrens-sunday-school-2/
CATEGORIES:Youth Ministry
END:VEVENT
BEGIN:VEVENT
DTSTART;TZID=America/Denver:20260412T101500
DTEND;TZID=America/Denver:20260412T111500
DTSTAMP:20260419T145432
CREATED:20260403T191856Z
LAST-MODIFIED:20260403T191856Z
UID:1323-1775988900-1775992500@genchurchpeyton.org
SUMMARY:Worship Service
DESCRIPTION:
URL:https://genchurchpeyton.org/event/worship-service-2/
CATEGORIES:Church Events
END:VEVENT
BEGIN:VEVENT
DTSTART;TZID=America/Denver:20260412T101500
DTEND;TZID=America/Denver:20260412T111500
DTSTAMP:20260419T145432
CREATED:20260403T192933Z
LAST-MODIFIED:20260403T192933Z
UID:1343-1775988900-1775992500@genchurchpeyton.org
SUMMARY:Junior Church
DESCRIPTION:
URL:https://genchurchpeyton.org/event/junior-church-2/
CATEGORIES:Youth Ministry
END:VEVENT
BEGIN:VEVENT
DTSTART;TZID=America/Denver:20260412T183000
DTEND;TZID=America/Denver:20260412T200000
DTSTAMP:20260419T145432
CREATED:20260403T193229Z
LAST-MODIFIED:20260403T193229Z
UID:1349-1776018600-1776024000@genchurchpeyton.org
SUMMARY:Youth & Womens' Bible Study
DESCRIPTION:
URL:https://genchurchpeyton.org/event/youth-womens-bible-study/
CATEGORIES:Womens Ministry,Youth Ministry
END:VEVENT
BEGIN:VEVENT
DTSTART;TZID=America/Denver:20260414T180000
DTEND;TZID=America/Denver:20260414T193000
DTSTAMP:20260419T145432
CREATED:20260403T191148Z
LAST-MODIFIED:20260403T191148Z
UID:1313-1776189600-1776195000@genchurchpeyton.org
SUMMARY:Monthly Board of Directors Meeting
DESCRIPTION:
URL:https://genchurchpeyton.org/event/monthly-board-of-directors-meeting/
CATEGORIES:Admin Meeting
END:VEVENT
BEGIN:VEVENT
DTSTART;TZID=America/Denver:20260415T160000
DTEND;TZID=America/Denver:20260415T200000
DTSTAMP:20260419T145432
CREATED:20260412T002920Z
LAST-MODIFIED:20260412T002920Z
UID:1358-1776268800-1776283200@genchurchpeyton.org
SUMMARY:One Big Wednesday Youth Event
DESCRIPTION:
URL:https://genchurchpeyton.org/event/one-big-wednesday-youth-event/
CATEGORIES:Youth Ministry
END:VEVENT
BEGIN:VEVENT
DTSTART;TZID=America/Denver:20260415T183000
DTEND;TZID=America/Denver:20260415T200000
DTSTAMP:20260419T145432
CREATED:20260403T192255Z
LAST-MODIFIED:20260403T192255Z
UID:1331-1776277800-1776283200@genchurchpeyton.org
SUMMARY:Men's Fraternity
DESCRIPTION:
URL:https://genchurchpeyton.org/event/mens-fraternity-47/
CATEGORIES:Mens's Fraternity
END:VEVENT
BEGIN:VEVENT
DTSTART;TZID=America/Denver:20260417T150000
DTEND;TZID=America/Denver:20260418T160000
DTSTAMP:20260419T145432
CREATED:20260202T185942Z
LAST-MODIFIED:20260202T185942Z
UID:1247-1776438000-1776528000@genchurchpeyton.org
SUMMARY:Ladies Retreat - Where Are You God? - Divide\, CO
DESCRIPTION:
URL:https://genchurchpeyton.org/event/ladies-retreat-where-are-you-god-divide-co/
CATEGORIES:Womens Ministry
END:VEVENT
BEGIN:VEVENT
DTSTART;TZID=America/Denver:20260418T083000
DTEND;TZID=America/Denver:20260418T100000
DTSTAMP:20260419T145432
CREATED:20260403T191513Z
LAST-MODIFIED:20260403T191513Z
UID:1315-1776501000-1776506400@genchurchpeyton.org
SUMMARY:Men's Prayer Breakfast
DESCRIPTION:
URL:https://genchurchpeyton.org/event/mens-prayer-breakfast-21/
CATEGORIES:Mens's Fraternity
END:VEVENT
BEGIN:VEVENT
DTSTART;TZID=America/Denver:20260419T090000
DTEND;TZID=America/Denver:20260419T100000
DTSTAMP:20260419T145432
CREATED:20260403T191713Z
LAST-MODIFIED:20260403T191713Z
UID:1319-1776589200-1776592800@genchurchpeyton.org
SUMMARY:Adult Bible Study
DESCRIPTION:
URL:https://genchurchpeyton.org/event/adult-bible-study-3/
CATEGORIES:Church Events
END:VEVENT
BEGIN:VEVENT
DTSTART;TZID=America/Denver:20260419T090000
DTEND;TZID=America/Denver:20260419T100000
DTSTAMP:20260419T145432
CREATED:20260403T192607Z
LAST-MODIFIED:20260403T192607Z
UID:1339-1776589200-1776592800@genchurchpeyton.org
SUMMARY:Childrens' Sunday School
DESCRIPTION:
URL:https://genchurchpeyton.org/event/childrens-sunday-school-3/
CATEGORIES:Youth Ministry
END:VEVENT
BEGIN:VEVENT
DTSTART;TZID=America/Denver:20260419T101500
DTEND;TZID=America/Denver:20260419T111500
DTSTAMP:20260419T145432
CREATED:20260403T192117Z
LAST-MODIFIED:20260412T003842Z
UID:1327-1776593700-1776597300@genchurchpeyton.org
SUMMARY:Worship Service - Rev. Drew Stephens
DESCRIPTION:
URL:https://genchurchpeyton.org/event/worship-service-6/
CATEGORIES:Church Events
END:VEVENT
BEGIN:VEVENT
DTSTART;TZID=America/Denver:20260419T101500
DTEND;TZID=America/Denver:20260419T111500
DTSTAMP:20260419T145432
CREATED:20260403T193038Z
LAST-MODIFIED:20260403T193038Z
UID:1345-1776593700-1776597300@genchurchpeyton.org
SUMMARY:Junior Church
DESCRIPTION:
URL:https://genchurchpeyton.org/event/junior-church-3/
CATEGORIES:Youth Ministry
END:VEVENT
BEGIN:VEVENT
DTSTART;TZID=America/Denver:20260419T183000
DTEND;TZID=America/Denver:20260419T200000
DTSTAMP:20260419T145432
CREATED:20260403T193416Z
LAST-MODIFIED:20260412T003401Z
UID:1353-1776623400-1776628800@genchurchpeyton.org
SUMMARY:Youth will meet - No Womens' Bible Study
DESCRIPTION:
URL:https://genchurchpeyton.org/event/youth-womens-bible-study-3/
CATEGORIES:Womens Ministry,Youth Ministry
END:VEVENT
BEGIN:VEVENT
DTSTART;TZID=America/Denver:20260422T183000
DTEND;TZID=America/Denver:20260422T200000
DTSTAMP:20260419T145432
CREATED:20260403T192349Z
LAST-MODIFIED:20260403T192349Z
UID:1333-1776882600-1776888000@genchurchpeyton.org
SUMMARY:Men's Fraternity
DESCRIPTION:
URL:https://genchurchpeyton.org/event/mens-fraternity-48/
CATEGORIES:Mens's Fraternity
END:VEVENT
BEGIN:VEVENT
DTSTART;TZID=America/Denver:20260426T090000
DTEND;TZID=America/Denver:20260426T100000
DTSTAMP:20260419T145432
CREATED:20260403T191755Z
LAST-MODIFIED:20260403T191755Z
UID:1321-1777194000-1777197600@genchurchpeyton.org
SUMMARY:Adult Bible Study
DESCRIPTION:
URL:https://genchurchpeyton.org/event/adult-bible-study-4/
CATEGORIES:Church Events
END:VEVENT
BEGIN:VEVENT
DTSTART;TZID=America/Denver:20260426T090000
DTEND;TZID=America/Denver:20260426T100000
DTSTAMP:20260419T145432
CREATED:20260403T192646Z
LAST-MODIFIED:20260403T192646Z
UID:1341-1777194000-1777197600@genchurchpeyton.org
SUMMARY:Childrens' Sunday School
DESCRIPTION:
URL:https://genchurchpeyton.org/event/childrens-sunday-school-4/
CATEGORIES:Youth Ministry
END:VEVENT
BEGIN:VEVENT
DTSTART;TZID=America/Denver:20260426T101500
DTEND;TZID=America/Denver:20260426T111500
DTSTAMP:20260419T145432
CREATED:20260403T191951Z
LAST-MODIFIED:20260412T004158Z
UID:1325-1777198500-1777202100@genchurchpeyton.org
SUMMARY:Worship Service
DESCRIPTION:
URL:https://genchurchpeyton.org/event/worship-service-5/
CATEGORIES:Church Events
END:VEVENT
BEGIN:VEVENT
DTSTART;TZID=America/Denver:20260426T101500
DTEND;TZID=America/Denver:20260426T111500
DTSTAMP:20260419T145432
CREATED:20260403T193124Z
LAST-MODIFIED:20260403T193124Z
UID:1347-1777198500-1777202100@genchurchpeyton.org
SUMMARY:Junior Church
DESCRIPTION:
URL:https://genchurchpeyton.org/event/junior-church-4/
CATEGORIES:Youth Ministry
END:VEVENT
BEGIN:VEVENT
DTSTART;TZID=America/Denver:20260426T183000
DTEND;TZID=America/Denver:20260426T200000
DTSTAMP:20260419T145432
CREATED:20260403T193505Z
LAST-MODIFIED:20260403T193505Z
UID:1355-1777228200-1777233600@genchurchpeyton.org
SUMMARY:Youth & Womens' Bible Study
DESCRIPTION:
URL:https://genchurchpeyton.org/event/youth-womens-bible-study-4/
CATEGORIES:Womens Ministry,Youth Ministry
END:VEVENT
BEGIN:VEVENT
DTSTART;TZID=America/Denver:20260429T183000
DTEND;TZID=America/Denver:20260429T200000
DTSTAMP:20260419T145432
CREATED:20260403T192430Z
LAST-MODIFIED:20260403T192430Z
UID:1335-1777487400-1777492800@genchurchpeyton.org
SUMMARY:Men's Fraternity
DESCRIPTION:
URL:https://genchurchpeyton.org/event/mens-fraternity-49/
CATEGORIES:Mens's Fraternity
END:VEVENT
END:VCALENDAR