BEGIN:VCALENDAR
VERSION:2.0
PRODID:-//Generations Church of Peyton - ECPv6.15.20//NONSGML v1.0//EN
CALSCALE:GREGORIAN
METHOD:PUBLISH
X-WR-CALNAME:Generations Church of Peyton
X-ORIGINAL-URL:https://genchurchpeyton.org
X-WR-CALDESC:Events for Generations Church of Peyton
REFRESH-INTERVAL;VALUE=DURATION:PT1H
X-Robots-Tag:noindex
X-PUBLISHED-TTL:PT1H
BEGIN:VTIMEZONE
TZID:America/Denver
BEGIN:DAYLIGHT
TZOFFSETFROM:-0700
TZOFFSETTO:-0600
TZNAME:MDT
DTSTART:20250309T090000
END:DAYLIGHT
BEGIN:STANDARD
TZOFFSETFROM:-0600
TZOFFSETTO:-0700
TZNAME:MST
DTSTART:20251102T080000
END:STANDARD
BEGIN:DAYLIGHT
TZOFFSETFROM:-0700
TZOFFSETTO:-0600
TZNAME:MDT
DTSTART:20260308T090000
END:DAYLIGHT
BEGIN:STANDARD
TZOFFSETFROM:-0600
TZOFFSETTO:-0700
TZNAME:MST
DTSTART:20261101T080000
END:STANDARD
BEGIN:DAYLIGHT
TZOFFSETFROM:-0700
TZOFFSETTO:-0600
TZNAME:MDT
DTSTART:20270314T090000
END:DAYLIGHT
BEGIN:STANDARD
TZOFFSETFROM:-0600
TZOFFSETTO:-0700
TZNAME:MST
DTSTART:20271107T080000
END:STANDARD
END:VTIMEZONE
BEGIN:VEVENT
DTSTART;TZID=America/Denver:20260210T180000
DTEND;TZID=America/Denver:20260210T193000
DTSTAMP:20260419T224948
CREATED:20260202T184728Z
LAST-MODIFIED:20260202T184728Z
UID:1230-1770746400-1770751800@genchurchpeyton.org
SUMMARY:Admin BOD Meeting
DESCRIPTION:
URL:https://genchurchpeyton.org/event/admin-bod-meeting/
CATEGORIES:Admin Meeting
END:VEVENT
BEGIN:VEVENT
DTSTART;TZID=America/Denver:20260211T183000
DTEND;TZID=America/Denver:20260211T200000
DTSTAMP:20260419T224948
CREATED:20260202T184408Z
LAST-MODIFIED:20260202T184408Z
UID:1224-1770834600-1770840000@genchurchpeyton.org
SUMMARY:Men's Fraternity
DESCRIPTION:
URL:https://genchurchpeyton.org/event/mens-fraternity-43/
CATEGORIES:Mens's Fraternity
END:VEVENT
BEGIN:VEVENT
DTSTART;TZID=America/Denver:20260215T183000
DTEND;TZID=America/Denver:20260215T200000
DTSTAMP:20260419T224948
CREATED:20260202T185552Z
LAST-MODIFIED:20260202T185552Z
UID:1243-1771180200-1771185600@genchurchpeyton.org
SUMMARY:Youth Group/Women's Ministry
DESCRIPTION:
URL:https://genchurchpeyton.org/event/youth-group-womens-ministry/
CATEGORIES:Womens Ministry,Youth Ministry
END:VEVENT
BEGIN:VEVENT
DTSTART;TZID=America/Denver:20260217T183000
DTEND;TZID=America/Denver:20260217T193000
DTSTAMP:20260419T224948
CREATED:20260202T184847Z
LAST-MODIFIED:20260202T184847Z
UID:1232-1771353000-1771356600@genchurchpeyton.org
SUMMARY:Membership Class
DESCRIPTION:
URL:https://genchurchpeyton.org/event/membership-class/
CATEGORIES:Church Events
END:VEVENT
BEGIN:VEVENT
DTSTART;TZID=America/Denver:20260218T183000
DTEND;TZID=America/Denver:20260218T200000
DTSTAMP:20260419T224948
CREATED:20260202T184513Z
LAST-MODIFIED:20260202T184513Z
UID:1226-1771439400-1771444800@genchurchpeyton.org
SUMMARY:Men's Fraternity
DESCRIPTION:
URL:https://genchurchpeyton.org/event/mens-fraternity-44/
CATEGORIES:Mens's Fraternity
END:VEVENT
BEGIN:VEVENT
DTSTART;TZID=America/Denver:20260221T083000
DTEND;TZID=America/Denver:20260221T100000
DTSTAMP:20260419T224948
CREATED:20260202T185000Z
LAST-MODIFIED:20260202T185000Z
UID:1234-1771662600-1771668000@genchurchpeyton.org
SUMMARY:Men's Prayer Breakfast
DESCRIPTION:
URL:https://genchurchpeyton.org/event/mens-prayer-breakfast-19/
CATEGORIES:Men's Ministry
END:VEVENT
BEGIN:VEVENT
DTSTART;TZID=America/Denver:20260221T100000
DTEND;TZID=America/Denver:20260221T120000
DTSTAMP:20260419T224948
CREATED:20260202T185148Z
LAST-MODIFIED:20260202T185148Z
UID:1236-1771668000-1771675200@genchurchpeyton.org
SUMMARY:Women's Crafting Fellowship
DESCRIPTION:
URL:https://genchurchpeyton.org/event/womens-crafting-fellowship/
CATEGORIES:Womens Ministry
END:VEVENT
BEGIN:VEVENT
DTSTART;TZID=America/Denver:20260222T183000
DTEND;TZID=America/Denver:20260222T200000
DTSTAMP:20260419T224948
CREATED:20260202T185729Z
LAST-MODIFIED:20260202T185729Z
UID:1245-1771785000-1771790400@genchurchpeyton.org
SUMMARY:Youth Group/Women's Ministry
DESCRIPTION:
URL:https://genchurchpeyton.org/event/youth-group-womens-ministry-2/
CATEGORIES:Womens Ministry,Youth Ministry
END:VEVENT
BEGIN:VEVENT
DTSTART;TZID=America/Denver:20260225T183000
DTEND;TZID=America/Denver:20260225T200000
DTSTAMP:20260419T224948
CREATED:20260202T184601Z
LAST-MODIFIED:20260202T184601Z
UID:1228-1772044200-1772049600@genchurchpeyton.org
SUMMARY:Men's Fraternity
DESCRIPTION:
URL:https://genchurchpeyton.org/event/mens-fraternity-45/
CATEGORIES:Mens's Fraternity
END:VEVENT
BEGIN:VEVENT
DTSTART;TZID=America/Denver:20260228T093000
DTEND;TZID=America/Denver:20260228T110000
DTSTAMP:20260419T224948
CREATED:20260202T185258Z
LAST-MODIFIED:20260202T185258Z
UID:1238-1772271000-1772276400@genchurchpeyton.org
SUMMARY:Evangelism Seminar
DESCRIPTION:
URL:https://genchurchpeyton.org/event/evangelism-seminar/
CATEGORIES:Church Events
END:VEVENT
BEGIN:VEVENT
DTSTART;TZID=America/Denver:20260304T183000
DTEND;TZID=America/Denver:20260304T200000
DTSTAMP:20260419T224948
CREATED:20260304T173027Z
LAST-MODIFIED:20260304T173027Z
UID:1269-1772649000-1772654400@genchurchpeyton.org
SUMMARY:Men's Fraternity Meeting
DESCRIPTION:
URL:https://genchurchpeyton.org/event/mens-fraternity-meeting/
CATEGORIES:Men's Ministry
END:VEVENT
BEGIN:VEVENT
DTSTART;TZID=America/Denver:20260308T090000
DTEND;TZID=America/Denver:20260308T100000
DTSTAMP:20260419T224948
CREATED:20260304T174141Z
LAST-MODIFIED:20260304T174141Z
UID:1287-1772960400-1772964000@genchurchpeyton.org
SUMMARY:Adult Bible Study/Children's Sunday School
DESCRIPTION:
URL:https://genchurchpeyton.org/event/adult-bible-study-childrens-sunday-school/
CATEGORIES:Church Events
END:VEVENT
BEGIN:VEVENT
DTSTART;TZID=America/Denver:20260308T101500
DTEND;TZID=America/Denver:20260308T111500
DTSTAMP:20260419T224948
CREATED:20260304T172339Z
LAST-MODIFIED:20260304T172339Z
UID:1256-1772964900-1772968500@genchurchpeyton.org
SUMMARY:Worship Service
DESCRIPTION:
URL:https://genchurchpeyton.org/event/worship-service/
CATEGORIES:Sunday Worship
END:VEVENT
BEGIN:VEVENT
DTSTART;TZID=America/Denver:20260308T183000
DTEND;TZID=America/Denver:20260308T200000
DTSTAMP:20260419T224948
CREATED:20260304T173428Z
LAST-MODIFIED:20260304T173428Z
UID:1277-1772994600-1773000000@genchurchpeyton.org
SUMMARY:Youth Group & Ladies' Ministry Meeting
DESCRIPTION:
URL:https://genchurchpeyton.org/event/youth-group-ladies-ministry-meeting/
CATEGORIES:Womens Ministry,Youth Ministry
END:VEVENT
BEGIN:VEVENT
DTSTART;TZID=America/Denver:20260310T180000
DTEND;TZID=America/Denver:20260310T193000
DTSTAMP:20260419T224948
CREATED:20260304T173918Z
LAST-MODIFIED:20260304T173918Z
UID:1285-1773165600-1773171000@genchurchpeyton.org
SUMMARY:Administrative Board Meeting
DESCRIPTION:
URL:https://genchurchpeyton.org/event/administrative-board-meeting/
CATEGORIES:Admin Meeting
END:VEVENT
BEGIN:VEVENT
DTSTART;TZID=America/Denver:20260311T183000
DTEND;TZID=America/Denver:20260311T200000
DTSTAMP:20260419T224948
CREATED:20260304T173113Z
LAST-MODIFIED:20260304T173113Z
UID:1271-1773253800-1773259200@genchurchpeyton.org
SUMMARY:Men's Fraternity Meeting
DESCRIPTION:
URL:https://genchurchpeyton.org/event/mens-fraternity-meeting-2/
CATEGORIES:Men's Ministry
END:VEVENT
BEGIN:VEVENT
DTSTART;TZID=America/Denver:20260315T090000
DTEND;TZID=America/Denver:20260315T100000
DTSTAMP:20260419T224948
CREATED:20260304T174228Z
LAST-MODIFIED:20260304T174228Z
UID:1289-1773565200-1773568800@genchurchpeyton.org
SUMMARY:Adult Bible Study/Children's Sunday School
DESCRIPTION:
URL:https://genchurchpeyton.org/event/adult-bible-study-childrens-sunday-school-2/
CATEGORIES:Church Events
END:VEVENT
BEGIN:VEVENT
DTSTART;TZID=America/Denver:20260315T101500
DTEND;TZID=America/Denver:20260315T111500
DTSTAMP:20260419T224948
CREATED:20260304T172853Z
LAST-MODIFIED:20260304T172853Z
UID:1267-1773569700-1773573300@genchurchpeyton.org
SUMMARY:Guest Speaker - Rev. Jeremy Woodhouse
DESCRIPTION:
URL:https://genchurchpeyton.org/event/guest-speaker-rev-jeremy-woodhouse/
CATEGORIES:Sunday Worship
END:VEVENT
BEGIN:VEVENT
DTSTART;TZID=America/Denver:20260315T183000
DTEND;TZID=America/Denver:20260315T200000
DTSTAMP:20260419T224948
CREATED:20260304T173521Z
LAST-MODIFIED:20260304T173521Z
UID:1279-1773599400-1773604800@genchurchpeyton.org
SUMMARY:Youth Group & Ladies' Ministry Meeting
DESCRIPTION:
URL:https://genchurchpeyton.org/event/youth-group-ladies-ministry-meeting-2/
CATEGORIES:Womens Ministry,Youth Ministry
END:VEVENT
BEGIN:VEVENT
DTSTART;TZID=America/Denver:20260318T183000
DTEND;TZID=America/Denver:20260318T200000
DTSTAMP:20260419T224948
CREATED:20260304T173202Z
LAST-MODIFIED:20260304T173202Z
UID:1273-1773858600-1773864000@genchurchpeyton.org
SUMMARY:Men's Fraternity Meeting
DESCRIPTION:
URL:https://genchurchpeyton.org/event/mens-fraternity-meeting-3/
CATEGORIES:Men's Ministry
END:VEVENT
BEGIN:VEVENT
DTSTART;TZID=America/Denver:20260321T083000
DTEND;TZID=America/Denver:20260321T100000
DTSTAMP:20260419T224948
CREATED:20260309T225318Z
LAST-MODIFIED:20260309T225318Z
UID:1295-1774081800-1774087200@genchurchpeyton.org
SUMMARY:Men's Prayer Breakfast
DESCRIPTION:
URL:https://genchurchpeyton.org/event/mens-prayer-breakfast-20/
CATEGORIES:Men's Ministry
END:VEVENT
BEGIN:VEVENT
DTSTART;TZID=America/Denver:20260321T100000
DTEND;TZID=America/Denver:20260321T120000
DTSTAMP:20260419T224948
CREATED:20260309T225426Z
LAST-MODIFIED:20260309T225426Z
UID:1297-1774087200-1774094400@genchurchpeyton.org
SUMMARY:Ladies Crafting Fellowship
DESCRIPTION:
URL:https://genchurchpeyton.org/event/ladies-crafting-fellowship/
CATEGORIES:Womens Ministry
END:VEVENT
BEGIN:VEVENT
DTSTART;TZID=America/Denver:20260322T090000
DTEND;TZID=America/Denver:20260322T100000
DTSTAMP:20260419T224948
CREATED:20260304T174318Z
LAST-MODIFIED:20260304T174318Z
UID:1291-1774170000-1774173600@genchurchpeyton.org
SUMMARY:Adult Bible Study/Children's Sunday School
DESCRIPTION:
URL:https://genchurchpeyton.org/event/adult-bible-study-childrens-sunday-school-3/
CATEGORIES:Church Events
END:VEVENT
BEGIN:VEVENT
DTSTART;TZID=America/Denver:20260322T101500
DTEND;TZID=America/Denver:20260322T111500
DTSTAMP:20260419T224948
CREATED:20260304T172524Z
LAST-MODIFIED:20260304T172524Z
UID:1260-1774174500-1774178100@genchurchpeyton.org
SUMMARY:Worship Service
DESCRIPTION:
URL:https://genchurchpeyton.org/event/worship-service-3/
CATEGORIES:Sunday Worship
END:VEVENT
BEGIN:VEVENT
DTSTART;TZID=America/Denver:20260322T183000
DTEND;TZID=America/Denver:20260322T200000
DTSTAMP:20260419T224948
CREATED:20260304T173613Z
LAST-MODIFIED:20260304T173613Z
UID:1281-1774204200-1774209600@genchurchpeyton.org
SUMMARY:Youth Group & Ladies' Ministry Meeting
DESCRIPTION:
URL:https://genchurchpeyton.org/event/youth-group-ladies-ministry-meeting-3/
CATEGORIES:Womens Ministry,Youth Ministry
END:VEVENT
BEGIN:VEVENT
DTSTART;TZID=America/Denver:20260323T180000
DTEND;TZID=America/Denver:20260323T193000
DTSTAMP:20260419T224948
CREATED:20260309T225523Z
LAST-MODIFIED:20260309T225523Z
UID:1299-1774288800-1774294200@genchurchpeyton.org
SUMMARY:New Members Orientation Class
DESCRIPTION:
URL:https://genchurchpeyton.org/event/new-members-orientation-class/
CATEGORIES:Church Events
END:VEVENT
BEGIN:VEVENT
DTSTART;TZID=America/Denver:20260325T183000
DTEND;TZID=America/Denver:20260325T200000
DTSTAMP:20260419T224948
CREATED:20260304T173244Z
LAST-MODIFIED:20260304T173244Z
UID:1275-1774463400-1774468800@genchurchpeyton.org
SUMMARY:Men's Fraternity Meeting
DESCRIPTION:
URL:https://genchurchpeyton.org/event/mens-fraternity-meeting-4/
CATEGORIES:Men's Ministry
END:VEVENT
BEGIN:VEVENT
DTSTART;TZID=America/Denver:20260329T090000
DTEND;TZID=America/Denver:20260329T100000
DTSTAMP:20260419T224948
CREATED:20260304T174403Z
LAST-MODIFIED:20260304T174403Z
UID:1293-1774774800-1774778400@genchurchpeyton.org
SUMMARY:Adult Bible Study/Children's Sunday School
DESCRIPTION:
URL:https://genchurchpeyton.org/event/adult-bible-study-childrens-sunday-school-4/
CATEGORIES:Church Events
END:VEVENT
BEGIN:VEVENT
DTSTART;TZID=America/Denver:20260329T101500
DTEND;TZID=America/Denver:20260329T111500
DTSTAMP:20260419T224948
CREATED:20260304T172616Z
LAST-MODIFIED:20260304T172616Z
UID:1262-1774779300-1774782900@genchurchpeyton.org
SUMMARY:Worship Service
DESCRIPTION:
URL:https://genchurchpeyton.org/event/worship-service-4/
CATEGORIES:Sunday Worship
END:VEVENT
BEGIN:VEVENT
DTSTART;TZID=America/Denver:20260329T183000
DTEND;TZID=America/Denver:20260329T200000
DTSTAMP:20260419T224948
CREATED:20260304T173717Z
LAST-MODIFIED:20260304T173717Z
UID:1283-1774809000-1774814400@genchurchpeyton.org
SUMMARY:Youth Group & Ladies' Ministry Meeting
DESCRIPTION:
URL:https://genchurchpeyton.org/event/youth-group-ladies-ministry-meeting-4/
CATEGORIES:Womens Ministry,Youth Ministry
END:VEVENT
END:VCALENDAR