BEGIN:VCALENDAR
VERSION:2.0
PRODID:-//Generations Church of Peyton - ECPv6.15.20//NONSGML v1.0//EN
CALSCALE:GREGORIAN
METHOD:PUBLISH
X-WR-CALNAME:Generations Church of Peyton
X-ORIGINAL-URL:https://genchurchpeyton.org
X-WR-CALDESC:Events for Generations Church of Peyton
REFRESH-INTERVAL;VALUE=DURATION:PT1H
X-Robots-Tag:noindex
X-PUBLISHED-TTL:PT1H
BEGIN:VTIMEZONE
TZID:America/Denver
BEGIN:DAYLIGHT
TZOFFSETFROM:-0700
TZOFFSETTO:-0600
TZNAME:MDT
DTSTART:20240310T090000
END:DAYLIGHT
BEGIN:STANDARD
TZOFFSETFROM:-0600
TZOFFSETTO:-0700
TZNAME:MST
DTSTART:20241103T080000
END:STANDARD
BEGIN:DAYLIGHT
TZOFFSETFROM:-0700
TZOFFSETTO:-0600
TZNAME:MDT
DTSTART:20250309T090000
END:DAYLIGHT
BEGIN:STANDARD
TZOFFSETFROM:-0600
TZOFFSETTO:-0700
TZNAME:MST
DTSTART:20251102T080000
END:STANDARD
BEGIN:DAYLIGHT
TZOFFSETFROM:-0700
TZOFFSETTO:-0600
TZNAME:MDT
DTSTART:20260308T090000
END:DAYLIGHT
BEGIN:STANDARD
TZOFFSETFROM:-0600
TZOFFSETTO:-0700
TZNAME:MST
DTSTART:20261101T080000
END:STANDARD
END:VTIMEZONE
BEGIN:VEVENT
DTSTART;TZID=America/Denver:20250504T101500
DTEND;TZID=America/Denver:20250504T113000
DTSTAMP:20260420T034103
CREATED:20250408T065708Z
LAST-MODIFIED:20250408T065708Z
UID:775-1746353700-1746358200@genchurchpeyton.org
SUMMARY:Sunday Worship
DESCRIPTION:Sunday morning at Generations Church is a sacred time when we come together—young and old—to worship the Lord\, hear from His Word\, and encourage one another in the faith. \nFrom the moment you walk through the doors\, you’ll be welcomed like family. We gather not for performance or spectacle\, but to lift up the name of Jesus Christ in song\, in prayer\, and in the preaching of the Word. The music is Christ-centered\, the people are genuine\, and the Spirit of God is moving in our midst. \nEach week\, we open the Bible and ask\, “Lord\, what do You want to teach us today?” The messages are rooted in Scripture\, practical for daily life\, and always pointing us back to the cross. Whether we’re in the Psalms\, the Gospels\, or the book of James\, we believe the Word of God is alive and powerful—and it has something to say to each of us. \nCommunion is observed regularly as a reminder of Christ’s sacrifice\, and we always make space for prayer\, reflection\, and response. We believe in the power of the Holy Spirit to change lives and that church should feel like coming home. \nSo come as you are—whether you’re new to church\, returning after some time away\, or have been walking with the Lord for years. We’d love for you to worship with us this Sunday\, and experience what it means to be part of a church family that’s following Jesus together.
URL:https://genchurchpeyton.org/event/sunday-worship-4/
LOCATION:Generations Church of Peyton\, 15504 Bradshaw Rd\, Peyton\, CO\, 80831\, United States
CATEGORIES:Sunday Worship
ATTACH;FMTTYPE=image/png:https://genchurchpeyton.org/wp-content/uploads/2025/04/Sundays.png
END:VEVENT
BEGIN:VEVENT
DTSTART;TZID=America/Denver:20250507T183000
DTEND;TZID=America/Denver:20250507T200000
DTSTAMP:20260420T034103
CREATED:20250407T203806Z
LAST-MODIFIED:20250407T203806Z
UID:462-1746642600-1746648000@genchurchpeyton.org
SUMMARY:Men's Fraternity
DESCRIPTION:This ministry welcomes all men aiming to help them connect with God through His Word and build Christ-honoring relationships with other men. The goal is for participants to collectively become the men God has called them to be in all areas of life and faith. For more details\, you can contact Pastor John or Deacon Paul.
URL:https://genchurchpeyton.org/event/mens-fraternity-5/
LOCATION:Generations Church of Peyton\, 15504 Bradshaw Rd\, Peyton\, CO\, 80831\, United States
CATEGORIES:Men's Ministry,Mens's Fraternity
ATTACH;FMTTYPE=image/jpeg:https://genchurchpeyton.org/wp-content/uploads/2025/04/Mens-Fraternity-Graphic.jpg
END:VEVENT
BEGIN:VEVENT
DTSTART;TZID=America/Denver:20250511T101500
DTEND;TZID=America/Denver:20250511T113000
DTSTAMP:20260420T034103
CREATED:20250408T065709Z
LAST-MODIFIED:20250408T065709Z
UID:776-1746958500-1746963000@genchurchpeyton.org
SUMMARY:Sunday Worship
DESCRIPTION:Sunday morning at Generations Church is a sacred time when we come together—young and old—to worship the Lord\, hear from His Word\, and encourage one another in the faith. \nFrom the moment you walk through the doors\, you’ll be welcomed like family. We gather not for performance or spectacle\, but to lift up the name of Jesus Christ in song\, in prayer\, and in the preaching of the Word. The music is Christ-centered\, the people are genuine\, and the Spirit of God is moving in our midst. \nEach week\, we open the Bible and ask\, “Lord\, what do You want to teach us today?” The messages are rooted in Scripture\, practical for daily life\, and always pointing us back to the cross. Whether we’re in the Psalms\, the Gospels\, or the book of James\, we believe the Word of God is alive and powerful—and it has something to say to each of us. \nCommunion is observed regularly as a reminder of Christ’s sacrifice\, and we always make space for prayer\, reflection\, and response. We believe in the power of the Holy Spirit to change lives and that church should feel like coming home. \nSo come as you are—whether you’re new to church\, returning after some time away\, or have been walking with the Lord for years. We’d love for you to worship with us this Sunday\, and experience what it means to be part of a church family that’s following Jesus together.
URL:https://genchurchpeyton.org/event/sunday-worship-5/
LOCATION:Generations Church of Peyton\, 15504 Bradshaw Rd\, Peyton\, CO\, 80831\, United States
CATEGORIES:Sunday Worship
ATTACH;FMTTYPE=image/png:https://genchurchpeyton.org/wp-content/uploads/2025/04/Sundays.png
END:VEVENT
BEGIN:VEVENT
DTSTART;TZID=America/Denver:20250514T183000
DTEND;TZID=America/Denver:20250514T200000
DTSTAMP:20260420T034103
CREATED:20250407T203807Z
LAST-MODIFIED:20250407T203807Z
UID:463-1747247400-1747252800@genchurchpeyton.org
SUMMARY:Men's Fraternity
DESCRIPTION:This ministry welcomes all men aiming to help them connect with God through His Word and build Christ-honoring relationships with other men. The goal is for participants to collectively become the men God has called them to be in all areas of life and faith. For more details\, you can contact Pastor John or Deacon Paul.
URL:https://genchurchpeyton.org/event/mens-fraternity-6/
LOCATION:Generations Church of Peyton\, 15504 Bradshaw Rd\, Peyton\, CO\, 80831\, United States
CATEGORIES:Men's Ministry,Mens's Fraternity
ATTACH;FMTTYPE=image/jpeg:https://genchurchpeyton.org/wp-content/uploads/2025/04/Mens-Fraternity-Graphic.jpg
END:VEVENT
BEGIN:VEVENT
DTSTART;TZID=America/Denver:20250516T090000
DTEND;TZID=America/Denver:20250516T170000
DTSTAMP:20260420T034103
CREATED:20250419T020404Z
LAST-MODIFIED:20250419T021734Z
UID:875-1747386000-1747414800@genchurchpeyton.org
SUMMARY:Church Yard Sale
DESCRIPTION:Upcoming Generations Church Yard Sale! May 16 & 17\nAre you in the spring-cleaning mood? Have you accumulated items that are no longer in use? (think cupboards\, closets\, basement\, attic\, shed\, barn and garage). \nOn Friday\, May 16th and Saturday\, May 17th our church will be having a yard sale held in the pavilion\, from 9:00 -5:00. \nWe are looking for clean\, donated items that are priced by you! If possible\, please box your items instead of bagging them. Please see Audrey Carroll if you need boxes or have any questions. \nALL PROCEEDS GO TO OUR CHURCH.
URL:https://genchurchpeyton.org/event/church-yard-sale/
LOCATION:Generations Church of Peyton\, 15504 Bradshaw Rd\, Peyton\, CO\, 80831\, United States
CATEGORIES:Church Events
ATTACH;FMTTYPE=image/jpeg:https://genchurchpeyton.org/wp-content/uploads/2025/04/church-yard-sale-peyton-co.jpg
END:VEVENT
BEGIN:VEVENT
DTSTART;TZID=America/Denver:20250517T080000
DTEND;TZID=America/Denver:20250517T100000
DTSTAMP:20260420T034103
CREATED:20250407T194818Z
LAST-MODIFIED:20250407T203740Z
UID:433-1747468800-1747476000@genchurchpeyton.org
SUMMARY:Men's Prayer Breakfast
DESCRIPTION:Join the men of Generations Church for our monthly Men’s Prayer Breakfast—a meaningful time of fellowship\, encouragement\, and spiritual growth. We gather on the third Wednesday of each month to share a hot breakfast\, connect as brothers in Christ\, and pray together for our families\, community\, and world. \nWhether you’re a long-time member or visiting for the first time\, you’ll find a welcoming space to grow in faith and friendship. Come hungry and ready to be filled\, both physically and spiritually. \nBring a friend\, a hearty appetite\, and an open heart. We look forward to seeing you there!
URL:https://genchurchpeyton.org/event/mens-prayer-breakfast-11/
LOCATION:Generations Church of Peyton\, 15504 Bradshaw Rd\, Peyton\, CO\, 80831\, United States
CATEGORIES:Men's Ministry,Mens's Prayer Breakfast
ATTACH;FMTTYPE=image/png:https://genchurchpeyton.org/wp-content/uploads/2025/04/Mens-Breakfast.png
END:VEVENT
BEGIN:VEVENT
DTSTART;TZID=America/Denver:20250517T090000
DTEND;TZID=America/Denver:20250517T170000
DTSTAMP:20260420T034103
CREATED:20250419T020451Z
LAST-MODIFIED:20250419T021757Z
UID:878-1747472400-1747501200@genchurchpeyton.org
SUMMARY:Church Yard Sale
DESCRIPTION:Upcoming Generations Church Yard Sale! May 16 & 17\nAre you in the spring-cleaning mood? Have you accumulated items that are no longer in use? (think cupboards\, closets\, basement\, attic\, shed\, barn and garage). \nOn Friday\, May 16th and Saturday\, May 17th our church will be having a yard sale held in the pavilion\, from 9:00 -5:00. \nWe are looking for clean\, donated items that are priced by you! If possible\, please box your items instead of bagging them. Please see Audrey Carroll if you need boxes or have any questions. \nALL PROCEEDS GO TO OUR CHURCH.
URL:https://genchurchpeyton.org/event/church-yard-sale-2/
LOCATION:Generations Church of Peyton\, 15504 Bradshaw Rd\, Peyton\, CO\, 80831\, United States
CATEGORIES:Church Events
ATTACH;FMTTYPE=image/jpeg:https://genchurchpeyton.org/wp-content/uploads/2025/04/church-yard-sale-peyton-co.jpg
END:VEVENT
BEGIN:VEVENT
DTSTART;TZID=America/Denver:20250518T101500
DTEND;TZID=America/Denver:20250518T113000
DTSTAMP:20260420T034103
CREATED:20250408T065714Z
LAST-MODIFIED:20250408T065714Z
UID:777-1747563300-1747567800@genchurchpeyton.org
SUMMARY:Sunday Worship
DESCRIPTION:Sunday morning at Generations Church is a sacred time when we come together—young and old—to worship the Lord\, hear from His Word\, and encourage one another in the faith. \nFrom the moment you walk through the doors\, you’ll be welcomed like family. We gather not for performance or spectacle\, but to lift up the name of Jesus Christ in song\, in prayer\, and in the preaching of the Word. The music is Christ-centered\, the people are genuine\, and the Spirit of God is moving in our midst. \nEach week\, we open the Bible and ask\, “Lord\, what do You want to teach us today?” The messages are rooted in Scripture\, practical for daily life\, and always pointing us back to the cross. Whether we’re in the Psalms\, the Gospels\, or the book of James\, we believe the Word of God is alive and powerful—and it has something to say to each of us. \nCommunion is observed regularly as a reminder of Christ’s sacrifice\, and we always make space for prayer\, reflection\, and response. We believe in the power of the Holy Spirit to change lives and that church should feel like coming home. \nSo come as you are—whether you’re new to church\, returning after some time away\, or have been walking with the Lord for years. We’d love for you to worship with us this Sunday\, and experience what it means to be part of a church family that’s following Jesus together.
URL:https://genchurchpeyton.org/event/sunday-worship-6/
LOCATION:Generations Church of Peyton\, 15504 Bradshaw Rd\, Peyton\, CO\, 80831\, United States
CATEGORIES:Sunday Worship
ATTACH;FMTTYPE=image/png:https://genchurchpeyton.org/wp-content/uploads/2025/04/Sundays.png
END:VEVENT
BEGIN:VEVENT
DTSTART;TZID=America/Denver:20250521T183000
DTEND;TZID=America/Denver:20250521T200000
DTSTAMP:20260420T034103
CREATED:20250407T203817Z
LAST-MODIFIED:20250407T203817Z
UID:464-1747852200-1747857600@genchurchpeyton.org
SUMMARY:Men's Fraternity
DESCRIPTION:This ministry welcomes all men aiming to help them connect with God through His Word and build Christ-honoring relationships with other men. The goal is for participants to collectively become the men God has called them to be in all areas of life and faith. For more details\, you can contact Pastor John or Deacon Paul.
URL:https://genchurchpeyton.org/event/mens-fraternity-7/
LOCATION:Generations Church of Peyton\, 15504 Bradshaw Rd\, Peyton\, CO\, 80831\, United States
CATEGORIES:Men's Ministry,Mens's Fraternity
ATTACH;FMTTYPE=image/jpeg:https://genchurchpeyton.org/wp-content/uploads/2025/04/Mens-Fraternity-Graphic.jpg
END:VEVENT
BEGIN:VEVENT
DTSTART;TZID=America/Denver:20250525T101500
DTEND;TZID=America/Denver:20250525T113000
DTSTAMP:20260420T034103
CREATED:20250408T065715Z
LAST-MODIFIED:20250408T065715Z
UID:778-1748168100-1748172600@genchurchpeyton.org
SUMMARY:Sunday Worship
DESCRIPTION:Sunday morning at Generations Church is a sacred time when we come together—young and old—to worship the Lord\, hear from His Word\, and encourage one another in the faith. \nFrom the moment you walk through the doors\, you’ll be welcomed like family. We gather not for performance or spectacle\, but to lift up the name of Jesus Christ in song\, in prayer\, and in the preaching of the Word. The music is Christ-centered\, the people are genuine\, and the Spirit of God is moving in our midst. \nEach week\, we open the Bible and ask\, “Lord\, what do You want to teach us today?” The messages are rooted in Scripture\, practical for daily life\, and always pointing us back to the cross. Whether we’re in the Psalms\, the Gospels\, or the book of James\, we believe the Word of God is alive and powerful—and it has something to say to each of us. \nCommunion is observed regularly as a reminder of Christ’s sacrifice\, and we always make space for prayer\, reflection\, and response. We believe in the power of the Holy Spirit to change lives and that church should feel like coming home. \nSo come as you are—whether you’re new to church\, returning after some time away\, or have been walking with the Lord for years. We’d love for you to worship with us this Sunday\, and experience what it means to be part of a church family that’s following Jesus together.
URL:https://genchurchpeyton.org/event/sunday-worship-7/
LOCATION:Generations Church of Peyton\, 15504 Bradshaw Rd\, Peyton\, CO\, 80831\, United States
CATEGORIES:Sunday Worship
ATTACH;FMTTYPE=image/png:https://genchurchpeyton.org/wp-content/uploads/2025/04/Sundays.png
END:VEVENT
BEGIN:VEVENT
DTSTART;TZID=America/Denver:20250528T183000
DTEND;TZID=America/Denver:20250528T200000
DTSTAMP:20260420T034103
CREATED:20250407T203818Z
LAST-MODIFIED:20250407T203818Z
UID:465-1748457000-1748462400@genchurchpeyton.org
SUMMARY:Men's Fraternity
DESCRIPTION:This ministry welcomes all men aiming to help them connect with God through His Word and build Christ-honoring relationships with other men. The goal is for participants to collectively become the men God has called them to be in all areas of life and faith. For more details\, you can contact Pastor John or Deacon Paul.
URL:https://genchurchpeyton.org/event/mens-fraternity-8/
LOCATION:Generations Church of Peyton\, 15504 Bradshaw Rd\, Peyton\, CO\, 80831\, United States
CATEGORIES:Men's Ministry,Mens's Fraternity
ATTACH;FMTTYPE=image/jpeg:https://genchurchpeyton.org/wp-content/uploads/2025/04/Mens-Fraternity-Graphic.jpg
END:VEVENT
END:VCALENDAR