BEGIN:VCALENDAR
VERSION:2.0
PRODID:-//Generations Church of Peyton - ECPv6.15.20//NONSGML v1.0//EN
CALSCALE:GREGORIAN
METHOD:PUBLISH
X-ORIGINAL-URL:https://genchurchpeyton.org
X-WR-CALDESC:Events for Generations Church of Peyton
REFRESH-INTERVAL;VALUE=DURATION:PT1H
X-Robots-Tag:noindex
X-PUBLISHED-TTL:PT1H
BEGIN:VTIMEZONE
TZID:America/Denver
BEGIN:DAYLIGHT
TZOFFSETFROM:-0700
TZOFFSETTO:-0600
TZNAME:MDT
DTSTART:20240310T090000
END:DAYLIGHT
BEGIN:STANDARD
TZOFFSETFROM:-0600
TZOFFSETTO:-0700
TZNAME:MST
DTSTART:20241103T080000
END:STANDARD
BEGIN:DAYLIGHT
TZOFFSETFROM:-0700
TZOFFSETTO:-0600
TZNAME:MDT
DTSTART:20250309T090000
END:DAYLIGHT
BEGIN:STANDARD
TZOFFSETFROM:-0600
TZOFFSETTO:-0700
TZNAME:MST
DTSTART:20251102T080000
END:STANDARD
BEGIN:DAYLIGHT
TZOFFSETFROM:-0700
TZOFFSETTO:-0600
TZNAME:MDT
DTSTART:20260308T090000
END:DAYLIGHT
BEGIN:STANDARD
TZOFFSETFROM:-0600
TZOFFSETTO:-0700
TZNAME:MST
DTSTART:20261101T080000
END:STANDARD
END:VTIMEZONE
BEGIN:VEVENT
DTSTART;TZID=America/Denver:20250907T063000
DTEND;TZID=America/Denver:20250907T200000
DTSTAMP:20260419T210704
CREATED:20250912T202446Z
LAST-MODIFIED:20250912T202540Z
UID:1000-1757226600-1757275200@genchurchpeyton.org
SUMMARY:Junior/Senior High Youth Ministry
DESCRIPTION:Kick off Event is September 7\, 2025 at 6:30 pm.
URL:https://genchurchpeyton.org/event/junior-senior-high-youth-ministry/
CATEGORIES:Youth Ministry
END:VEVENT
BEGIN:VEVENT
DTSTART;TZID=America/Denver:20250907T101500
DTEND;TZID=America/Denver:20250907T113000
DTSTAMP:20260419T210704
CREATED:20250408T065836Z
LAST-MODIFIED:20250408T065836Z
UID:794-1757240100-1757244600@genchurchpeyton.org
SUMMARY:Sunday Worship
DESCRIPTION:Sunday morning at Generations Church is a sacred time when we come together—young and old—to worship the Lord\, hear from His Word\, and encourage one another in the faith. \nFrom the moment you walk through the doors\, you’ll be welcomed like family. We gather not for performance or spectacle\, but to lift up the name of Jesus Christ in song\, in prayer\, and in the preaching of the Word. The music is Christ-centered\, the people are genuine\, and the Spirit of God is moving in our midst. \nEach week\, we open the Bible and ask\, “Lord\, what do You want to teach us today?” The messages are rooted in Scripture\, practical for daily life\, and always pointing us back to the cross. Whether we’re in the Psalms\, the Gospels\, or the book of James\, we believe the Word of God is alive and powerful—and it has something to say to each of us. \nCommunion is observed regularly as a reminder of Christ’s sacrifice\, and we always make space for prayer\, reflection\, and response. We believe in the power of the Holy Spirit to change lives and that church should feel like coming home. \nSo come as you are—whether you’re new to church\, returning after some time away\, or have been walking with the Lord for years. We’d love for you to worship with us this Sunday\, and experience what it means to be part of a church family that’s following Jesus together.
URL:https://genchurchpeyton.org/event/sunday-worship-22/
LOCATION:Generations Church of Peyton\, 15504 Bradshaw Rd\, Peyton\, CO\, 80831\, United States
CATEGORIES:Sunday Worship
ATTACH;FMTTYPE=image/png:https://genchurchpeyton.org/wp-content/uploads/2025/04/Sundays.png
END:VEVENT
BEGIN:VEVENT
DTSTART;TZID=America/Denver:20250914T101500
DTEND;TZID=America/Denver:20250914T113000
DTSTAMP:20260419T210704
CREATED:20250408T065837Z
LAST-MODIFIED:20250408T065837Z
UID:795-1757844900-1757849400@genchurchpeyton.org
SUMMARY:Sunday Worship
DESCRIPTION:Sunday morning at Generations Church is a sacred time when we come together—young and old—to worship the Lord\, hear from His Word\, and encourage one another in the faith. \nFrom the moment you walk through the doors\, you’ll be welcomed like family. We gather not for performance or spectacle\, but to lift up the name of Jesus Christ in song\, in prayer\, and in the preaching of the Word. The music is Christ-centered\, the people are genuine\, and the Spirit of God is moving in our midst. \nEach week\, we open the Bible and ask\, “Lord\, what do You want to teach us today?” The messages are rooted in Scripture\, practical for daily life\, and always pointing us back to the cross. Whether we’re in the Psalms\, the Gospels\, or the book of James\, we believe the Word of God is alive and powerful—and it has something to say to each of us. \nCommunion is observed regularly as a reminder of Christ’s sacrifice\, and we always make space for prayer\, reflection\, and response. We believe in the power of the Holy Spirit to change lives and that church should feel like coming home. \nSo come as you are—whether you’re new to church\, returning after some time away\, or have been walking with the Lord for years. We’d love for you to worship with us this Sunday\, and experience what it means to be part of a church family that’s following Jesus together.
URL:https://genchurchpeyton.org/event/sunday-worship-23/
LOCATION:Generations Church of Peyton\, 15504 Bradshaw Rd\, Peyton\, CO\, 80831\, United States
CATEGORIES:Sunday Worship
ATTACH;FMTTYPE=image/png:https://genchurchpeyton.org/wp-content/uploads/2025/04/Sundays.png
END:VEVENT
BEGIN:VEVENT
DTSTART;TZID=America/Denver:20250914T183000
DTEND;TZID=America/Denver:20250914T200000
DTSTAMP:20260419T210704
CREATED:20250912T202818Z
LAST-MODIFIED:20250912T202818Z
UID:1004-1757874600-1757880000@genchurchpeyton.org
SUMMARY:Junior/Senior High Ministry
DESCRIPTION:
URL:https://genchurchpeyton.org/event/junior-senior-high-ministry/
END:VEVENT
BEGIN:VEVENT
DTSTART;TZID=America/Denver:20250917T183000
DTEND;TZID=America/Denver:20250917T200000
DTSTAMP:20260419T210704
CREATED:20250407T203936Z
LAST-MODIFIED:20250912T161805Z
UID:493-1758133800-1758139200@genchurchpeyton.org
SUMMARY:Men's Fraternity
DESCRIPTION:This ministry welcomes all men aiming to help them connect with God through His Word and build Christ-honoring relationships with other men. The goal is for participants to collectively become the men God has called them to be in all areas of life and faith. For more details\, you can contact Pastor John or Elder Paul.
URL:https://genchurchpeyton.org/event/mens-fraternity-36/
LOCATION:Generations Church of Peyton\, 15504 Bradshaw Rd\, Peyton\, CO\, 80831\, United States
CATEGORIES:Men's Ministry,Mens's Fraternity
ATTACH;FMTTYPE=image/jpeg:https://genchurchpeyton.org/wp-content/uploads/2025/04/Mens-Fraternity-Graphic.jpg
END:VEVENT
BEGIN:VEVENT
DTSTART;TZID=America/Denver:20250920T080000
DTEND;TZID=America/Denver:20250920T100000
DTSTAMP:20260419T210704
CREATED:20250920T194826Z
LAST-MODIFIED:20250912T192358Z
UID:437-1758355200-1758362400@genchurchpeyton.org
SUMMARY:Men's Prayer Breakfast
DESCRIPTION:Join the men of Generations Church for our monthly Men’s Prayer Breakfast—a meaningful time of fellowship\, encouragement\, and spiritual growth. We gather on the third Wednesday of each month to share a hot breakfast\, connect as brothers in Christ\, and pray together for our families\, community\, and world. \nWhether you’re a long-time member or visiting for the first time\, you’ll find a welcoming space to grow in faith and friendship. Come hungry and ready to be filled\, both physically and spiritually. \nBring a friend\, a hearty appetite\, and an open heart. We look forward to seeing you there!
URL:https://genchurchpeyton.org/event/mens-prayer-breakfast-15/
LOCATION:Generations Church of Peyton\, 15504 Bradshaw Rd\, Peyton\, CO\, 80831\, United States
CATEGORIES:Men's Ministry,Mens's Prayer Breakfast
ATTACH;FMTTYPE=image/png:https://genchurchpeyton.org/wp-content/uploads/2025/04/Mens-Breakfast.png
END:VEVENT
BEGIN:VEVENT
DTSTART;TZID=America/Denver:20250921T101500
DTEND;TZID=America/Denver:20250921T113000
DTSTAMP:20260419T210704
CREATED:20250408T065838Z
LAST-MODIFIED:20250408T065838Z
UID:796-1758449700-1758454200@genchurchpeyton.org
SUMMARY:Sunday Worship
DESCRIPTION:Sunday morning at Generations Church is a sacred time when we come together—young and old—to worship the Lord\, hear from His Word\, and encourage one another in the faith. \nFrom the moment you walk through the doors\, you’ll be welcomed like family. We gather not for performance or spectacle\, but to lift up the name of Jesus Christ in song\, in prayer\, and in the preaching of the Word. The music is Christ-centered\, the people are genuine\, and the Spirit of God is moving in our midst. \nEach week\, we open the Bible and ask\, “Lord\, what do You want to teach us today?” The messages are rooted in Scripture\, practical for daily life\, and always pointing us back to the cross. Whether we’re in the Psalms\, the Gospels\, or the book of James\, we believe the Word of God is alive and powerful—and it has something to say to each of us. \nCommunion is observed regularly as a reminder of Christ’s sacrifice\, and we always make space for prayer\, reflection\, and response. We believe in the power of the Holy Spirit to change lives and that church should feel like coming home. \nSo come as you are—whether you’re new to church\, returning after some time away\, or have been walking with the Lord for years. We’d love for you to worship with us this Sunday\, and experience what it means to be part of a church family that’s following Jesus together.
URL:https://genchurchpeyton.org/event/sunday-worship-24/
LOCATION:Generations Church of Peyton\, 15504 Bradshaw Rd\, Peyton\, CO\, 80831\, United States
CATEGORIES:Sunday Worship
ATTACH;FMTTYPE=image/png:https://genchurchpeyton.org/wp-content/uploads/2025/04/Sundays.png
END:VEVENT
BEGIN:VEVENT
DTSTART;TZID=America/Denver:20250921T183000
DTEND;TZID=America/Denver:20250921T200000
DTSTAMP:20260419T210704
CREATED:20250912T204101Z
LAST-MODIFIED:20250912T204101Z
UID:1011-1758479400-1758484800@genchurchpeyton.org
SUMMARY:Junior/Senior High Ministry
DESCRIPTION:
URL:https://genchurchpeyton.org/event/junior-senior-high-ministry-2/
CATEGORIES:Youth Ministry
END:VEVENT
BEGIN:VEVENT
DTSTART;TZID=America/Denver:20250921T183000
DTEND;TZID=America/Denver:20250921T200000
DTSTAMP:20260419T210704
CREATED:20250912T204332Z
LAST-MODIFIED:20250912T204332Z
UID:1015-1758479400-1758484800@genchurchpeyton.org
SUMMARY:Womens Ministry
DESCRIPTION:
URL:https://genchurchpeyton.org/event/womens-ministry/
CATEGORIES:Womens Ministry
END:VEVENT
BEGIN:VEVENT
DTSTART;TZID=America/Denver:20250924T183000
DTEND;TZID=America/Denver:20250924T200000
DTSTAMP:20260419T210704
CREATED:20250407T203906Z
LAST-MODIFIED:20250407T203906Z
UID:482-1758738600-1758744000@genchurchpeyton.org
SUMMARY:Men's Fraternity
DESCRIPTION:This ministry welcomes all men aiming to help them connect with God through His Word and build Christ-honoring relationships with other men. The goal is for participants to collectively become the men God has called them to be in all areas of life and faith. For more details\, you can contact Pastor John or Deacon Paul.
URL:https://genchurchpeyton.org/event/mens-fraternity-25/
LOCATION:Generations Church of Peyton\, 15504 Bradshaw Rd\, Peyton\, CO\, 80831\, United States
CATEGORIES:Men's Ministry,Mens's Fraternity
ATTACH;FMTTYPE=image/jpeg:https://genchurchpeyton.org/wp-content/uploads/2025/04/Mens-Fraternity-Graphic.jpg
END:VEVENT
BEGIN:VEVENT
DTSTART;TZID=America/Denver:20250928T101500
DTEND;TZID=America/Denver:20250928T113000
DTSTAMP:20260419T210704
CREATED:20250408T065839Z
LAST-MODIFIED:20250408T065839Z
UID:797-1759054500-1759059000@genchurchpeyton.org
SUMMARY:Sunday Worship
DESCRIPTION:Sunday morning at Generations Church is a sacred time when we come together—young and old—to worship the Lord\, hear from His Word\, and encourage one another in the faith. \nFrom the moment you walk through the doors\, you’ll be welcomed like family. We gather not for performance or spectacle\, but to lift up the name of Jesus Christ in song\, in prayer\, and in the preaching of the Word. The music is Christ-centered\, the people are genuine\, and the Spirit of God is moving in our midst. \nEach week\, we open the Bible and ask\, “Lord\, what do You want to teach us today?” The messages are rooted in Scripture\, practical for daily life\, and always pointing us back to the cross. Whether we’re in the Psalms\, the Gospels\, or the book of James\, we believe the Word of God is alive and powerful—and it has something to say to each of us. \nCommunion is observed regularly as a reminder of Christ’s sacrifice\, and we always make space for prayer\, reflection\, and response. We believe in the power of the Holy Spirit to change lives and that church should feel like coming home. \nSo come as you are—whether you’re new to church\, returning after some time away\, or have been walking with the Lord for years. We’d love for you to worship with us this Sunday\, and experience what it means to be part of a church family that’s following Jesus together.
URL:https://genchurchpeyton.org/event/sunday-worship-25/
LOCATION:Generations Church of Peyton\, 15504 Bradshaw Rd\, Peyton\, CO\, 80831\, United States
CATEGORIES:Sunday Worship
ATTACH;FMTTYPE=image/png:https://genchurchpeyton.org/wp-content/uploads/2025/04/Sundays.png
END:VEVENT
BEGIN:VEVENT
DTSTART;TZID=America/Denver:20250928T183000
DTEND;TZID=America/Denver:20250928T200000
DTSTAMP:20260419T210704
CREATED:20250912T204150Z
LAST-MODIFIED:20250912T204150Z
UID:1013-1759084200-1759089600@genchurchpeyton.org
SUMMARY:Junior/Senior High Ministry
DESCRIPTION:
URL:https://genchurchpeyton.org/event/junior-senior-high-ministry-3/
CATEGORIES:Youth Ministry
END:VEVENT
BEGIN:VEVENT
DTSTART;TZID=America/Denver:20250928T183000
DTEND;TZID=America/Denver:20250928T200000
DTSTAMP:20260419T210704
CREATED:20250912T204432Z
LAST-MODIFIED:20250912T204432Z
UID:1017-1759084200-1759089600@genchurchpeyton.org
SUMMARY:Womens Ministry
DESCRIPTION:
URL:https://genchurchpeyton.org/event/womens-ministry-2/
CATEGORIES:Womens Ministry
END:VEVENT
END:VCALENDAR